BEGIN:VCALENDAR
VERSION:2.0
PRODID:-//https://www.murrayvalleybushwalkers.org.au///NONSGML kigkonsult.se iCalcreator 2.10.15//
METHOD:PUBLISH
BEGIN:VEVENT
UID:20190301T084707EST-1581fAbzAL@https://www.murrayvalleybushwalkers.org.a
 u/
DTSTAMP:20190301T134707Z
DESCRIPTION:Hi\, fellow Walkers.\nJoin Di and I on a favourite walk of mine
 \,&nbsp\; from Beechworth to Woolshed Falls&nbsp\; for Lunch and back.\nPo
 ssible a grade 3 walk\, BYO everything food water camera - Personal Stuff
 \nThe walk takes in the Cascades&nbsp\; and the old mining flats\, with lu
 nch at the sectacular falls.\nTime permitting and water levels\, we could 
 return via the Precipice and the Beechworh Park forest.\n\nMeeting at Deli
 been coffe shop\,Beechworth road 9:00 am for car pooling etc etc..\nEvent 
 Grade 3\nWhat to bring\nWeather \n&nbsp\; https://www.murrayvalleybushwalk
 ers.org.au/index.php/the-program/event-listing/event/2410-beechworth-to-wo
 olshed-falls-and-back
DTSTART:20170929T230000Z
DTEND:20170930T050000Z
LOCATION:Beechworth ()
SUMMARY:Beechworth to Woolshed Falls and back
URL:https://www.murrayvalleybushwalkers.org.au/index.php/the-program/event-
 listing/event/2410-beechworth-to-woolshed-falls-and-back
END:VEVENT
END:VCALENDAR
