BEGIN:VCALENDAR
VERSION:2.0
PRODID:-//https://www.murrayvalleybushwalkers.org.au///NONSGML kigkonsult.se iCalcreator 2.10.15//
METHOD:PUBLISH
BEGIN:VEVENT
UID:20190301T084808EST-0131iGidgI@https://www.murrayvalleybushwalkers.org.a
 u/
DTSTAMP:20190301T134808Z
DESCRIPTION:Dinner and Movies. The Mountains Between Us&nbsp\;Surgeon Ben P
 ayne (Idris Elba) and sucessful write Ashley Know (Kate Winslet) survive a
  devastating plane crash in the mountains where they are forced to band to
 gether\, trust one another and find safety while badly injured. Ben\, with
  broken ribs\, and Ashley\, with a terrible leg fracture\, must work toget
 her to weather the elements and escape the unforgiving wilderness.\n&nbsp\
 ;\n\n&nbsp\;\n&nbsp\; https://www.murrayvalleybushwalkers.org.au/index.php
 /the-program/event-listing/event/2402-the-mountains-between-us
DTSTART:20171014T064500Z
DTEND:20171014T113000Z
LOCATION:Albury (678 Sackville Street\, Albury NSW 2640\, Australia)
SUMMARY:The Mountains Between Us
URL:https://www.murrayvalleybushwalkers.org.au/index.php/the-program/event-
 listing/event/2402-the-mountains-between-us
END:VEVENT
END:VCALENDAR
