BEGIN:VCALENDAR
VERSION:2.0
PRODID:-//https://www.murrayvalleybushwalkers.org.au///NONSGML kigkonsult.se iCalcreator 2.10.15//
METHOD:PUBLISH
BEGIN:VEVENT
UID:20190301T084650EST-5286zPAjg5@https://www.murrayvalleybushwalkers.org.a
 u/
DTSTAMP:20190301T134650Z
DESCRIPTION:Dinner Plain weather forecast\n&nbsp\;A memorable night in the 
 snow $99 a ticket per person. Snowshoe adventure through snow gums to Cent
 ral tipi\, before sharing French cooking tips\, preparing French cheese fo
 ndue\, pre dinner drinks and nibbles all part of a 3 course dinner. Includ
 es tour\, head torch\, snowshoe\, 3 course dinner. Bookings via facebook l
 ink Alpine Nature Exerience 5.30pm to 10.30pm. Please organise own accomod
 ation dinner plains or hotham\n\nClick here for what to bring on club even
 ts\nClick here for event grading information https://www.murrayvalleybushw
 alkers.org.au/index.php/the-program/event-listing/event/2354-alpine-nature
 -experience
DTSTART:20170923T000000Z
DTEND:20170923T023000Z
LOCATION:Mt Hotham (Mt Hotham  \, Victoria \, Australia)
SUMMARY:Alpine Nature Experience
URL:https://www.murrayvalleybushwalkers.org.au/index.php/the-program/event-
 listing/event/2354-alpine-nature-experience
END:VEVENT
END:VCALENDAR
