BEGIN:VCALENDAR
VERSION:2.0
PRODID:-//https://www.murrayvalleybushwalkers.org.au///NONSGML kigkonsult.se iCalcreator 2.10.15//
METHOD:PUBLISH
BEGIN:VEVENT
UID:20190301T084741EST-8001GZ074u@https://www.murrayvalleybushwalkers.org.a
 u/
DTSTAMP:20190301T134741Z
DESCRIPTION:mount hotham weather information\n&nbsp\;\nThe Mount Feathertop
  – Bungalow Spur hike summits Mt Feathertop\, the second highest mountain 
 in Victoria and one of the most picturesque peaks in the state\n\nMount Fe
 athertop via Bungalow Spur and return Distance: 22km return Elevation Gain
 : 1652m\nStart – 7am from Bungalow Spur\, Harrietville. To reach the car p
 ark\, turn left off the Great Alpine Road at Harrietville\, just before th
 e school bridge over the Ovens River. Follow the road to the parking area 
 and notice board.\n&nbsp\;\nGrade 4 walk – 7 hrs. Please feel free to stay
  at Tawonga sth Cottage the night before with me. Let me know if that's th
 e case\, usually walk to Flour plus water for dinner. Please let me know i
 f you plan to stay the night. This will not be a fast paced hike\, lots of
  stops..\nPlease hit the join link above and complete an MVB booking enqui
 ry and I will get back to you asap.\nWhat to bring\nEvent Grading descript
 ions https://www.murrayvalleybushwalkers.org.au/index.php/the-program/even
 t-listing/event/2293-mt-feathertop-grade-4-day-walk
DTSTART:20171007T200000Z
DTEND:20171008T050000Z
LOCATION:Harrietville (223-231 Great Alpine Road\, Harrietville VIC 3741\, 
 Australia)
SUMMARY:Mt Feathertop Grade 4 Day Walk
URL:https://www.murrayvalleybushwalkers.org.au/index.php/the-program/event-
 listing/event/2293-mt-feathertop-grade-4-day-walk
END:VEVENT
END:VCALENDAR
