BEGIN:VCALENDAR
VERSION:2.0
PRODID:-//https://www.murrayvalleybushwalkers.org.au///NONSGML kigkonsult.se iCalcreator 2.10.15//
METHOD:PUBLISH
BEGIN:VEVENT
UID:20190301T083304EST-2725lUbhr2@https://www.murrayvalleybushwalkers.org.a
 u/
DTSTAMP:20190301T133304Z
DESCRIPTION:This is a multi day cross country ski / snowshoe backpacking ev
 ent - previous experience required\n&nbsp\;\nThur 28th July\, we leave Cor
 ryong around 6am to 7am\, to make the 3 hour drive to Guthega. From Gutheg
 a\, make the hike to White River Hut for the night Fri- continue on to eit
 her Mawson's Hut or Tin Hut\, via Schink Hilton. Sat - make our way to Ces
 jack's Hut. The summit of Mt Jagungal is only 6kms from Cesjacks. Sun - it
  is 2km to the park gate\, then another 7km downhill to where my Range Rov
 er will be parked for us. It is a 3 hour drive back to Tumbarumba from her
 e. We could stop for a coffee at Adaminaby\, or have lunch at the 1488 Bis
 tro in Cabramurra\, which has good meals. That is about it in a nutshell. 
 The distances are not great and there is enough time for flexability in wh
 at huts we stay at or visit.\n&nbsp\; https://www.murrayvalleybushwalkers.
 org.au/index.php/the-program/event-listing/event/2130-snowy-mountains-grad
 e-4-xc-backpack-and-ski
DTSTART:20160728T060000Z
DTEND:20160731T200000Z
LOCATION:Guthega Power Station (Guthega\, NSW 2627\, Australia)
SUMMARY:Snowy Mountains Grade 4 XC Backpack and Ski
URL:https://www.murrayvalleybushwalkers.org.au/index.php/the-program/event-
 listing/event/2130-snowy-mountains-grade-4-xc-backpack-and-ski
END:VEVENT
END:VCALENDAR
