BEGIN:VCALENDAR
VERSION:2.0
PRODID:-//https://www.murrayvalleybushwalkers.org.au///NONSGML kigkonsult.se iCalcreator 2.10.15//
METHOD:PUBLISH
BEGIN:VEVENT
UID:20190301T082618EST-92251jSGxE@https://www.murrayvalleybushwalkers.org.a
 u/
DTSTAMP:20190301T132618Z
DESCRIPTION:Hi All\n\n&nbsp\;\nJoin me for a Grade 3 day walk in the Koeton
 g state Park 18 km all on track\n&nbsp\;&nbsp\;\nWe walk along Mt Lawson r
 oad &nbsp\;to the Creek and &nbsp\;then turn in to Grandmother Track. Then
  it is up and down all the way &nbsp\;to the unnamed track which will brin
 g us back to the main track.\n\n&nbsp\;\n09.am start at the trestle bridge
  picnic table.\n&nbsp\;\nIris Joss\n&nbsp\;\nWhat to Bring LINK\n\nWalks G
 rade&nbsp\; LINK\n https://www.murrayvalleybushwalkers.org.au/index.php/th
 e-program/event-listing/event/2125-extended-grandmother-loop-grade-3-day-w
 alk
DTSTART:20160709T090000Z
DTEND:20160709T150000Z
LOCATION:Koetong (Murray Valley Highway \, 3704 \, Koetong \, Victoria \, A
 ustralia)
SUMMARY:Extended  Grandmother Loop Grade 3 Day Walk
URL:https://www.murrayvalleybushwalkers.org.au/index.php/the-program/event-
 listing/event/2125-extended-grandmother-loop-grade-3-day-walk
END:VEVENT
END:VCALENDAR
