BEGIN:VCALENDAR
VERSION:2.0
PRODID:-//https://www.murrayvalleybushwalkers.org.au///NONSGML kigkonsult.se iCalcreator 2.10.15//
METHOD:PUBLISH
BEGIN:VEVENT
UID:20190301T083209EST-7460S0tMGv@https://www.murrayvalleybushwalkers.org.a
 u/
DTSTAMP:20190301T133209Z
DESCRIPTION:This is a 16 km walk all on track.\nThe first 5 km are up hill 
 along Davis Track then 6km undulating along Elliot ridge track\, after lun
 ch\, a short and nasty downhill section on Tea Pot Creek Track. Then it is
  5km all flat back to the cars - and everybody will smile....\nDogs welcom
 e\nIf the weather is good we&nbsp\;will have a&nbsp\;great view of the&nbs
 p\;snow clad Kosciuszkco main range.\n\nMeet at my place at 8am\nGrade 3 w
 alk description\nWhat to Bring\nIris https://www.murrayvalleybushwalkers.o
 rg.au/index.php/the-program/event-listing/event/2123-bunroy-loop-grade-3-d
 ay-walk
DTSTART:20160723T080000Z
DTEND:20160723T150000Z
LOCATION: ()
SUMMARY: Bunroy Loop - Grade 3 Day Walk
URL:https://www.murrayvalleybushwalkers.org.au/index.php/the-program/event-
 listing/event/2123-bunroy-loop-grade-3-day-walk
END:VEVENT
END:VCALENDAR
