BEGIN:VCALENDAR
VERSION:2.0
PRODID:-//https://www.murrayvalleybushwalkers.org.au///NONSGML kigkonsult.se iCalcreator 2.10.15//
METHOD:PUBLISH
BEGIN:VEVENT
UID:20190301T083142EST-6564hbrIJv@https://www.murrayvalleybushwalkers.org.a
 u/
DTSTAMP:20190301T133142Z
DESCRIPTION:Cave\, Canyon and Clearing\nA day walk in a little-visited part
  of Chiltern Mt Pilot National Park\, visiting a cave\, a canyon and a str
 ange clearing on top of a hill - all features I've just discovered!. \nThi
 s will be only 7kms\, but mostly off-road\, with a little thick stuff and 
 climbs and descents. Car shuttle will be arranged on the morning. Meet at 
 Wooragee Hall on Wodonga-Beechworth Rd at&nbsp\;9am.\n&nbsp\;\n&nbsp\;\n&n
 bsp\; https://www.murrayvalleybushwalkers.org.au/index.php/the-program/eve
 nt-listing/event/2122-cave-canyon-and-clearing-chiltern-mt-pilot-np-grade-
 3-day-walk
DTSTART:20160717T090000Z
DTEND:20160717T150000Z
LOCATION:Chiltern Box - Ironbark National Park\, Chiltern VIC 3683 (Chilter
 n Box-Ironbark National Park\, Chiltern VIC 3683\, Australia)
SUMMARY:Cave\, Canyon and Clearing - Chiltern Mt Pilot NP Grade 3 day walk
URL:https://www.murrayvalleybushwalkers.org.au/index.php/the-program/event-
 listing/event/2122-cave-canyon-and-clearing-chiltern-mt-pilot-np-grade-3-d
 ay-walk
END:VEVENT
END:VCALENDAR
