BEGIN:VCALENDAR
VERSION:2.0
PRODID:-//https://www.murrayvalleybushwalkers.org.au///NONSGML kigkonsult.se iCalcreator 2.10.15//
METHOD:PUBLISH
BEGIN:VEVENT
UID:20190301T083548EST-1464u1auS9@https://www.murrayvalleybushwalkers.org.a
 u/
DTSTAMP:20190301T133548Z
DESCRIPTION:The club has been funded by Vic talent again to help subsidise 
 travel and entry fee expenses to encourage members to give winter sports a
  try. The club has 2 sets of snowshoes for members use. This will be a day
  trip to Windy Corner at Falls Creek from where we can hire equipment if r
 equired and take a leisurely stroll around the numerous XC trails at Falls
  Creek. Suitable for beginners. Cross country skiers are most welcome.\nMe
 et at Bunnings Wodonga carpark 7.30am\n&nbsp\;\nGrade 1\nWhat to Bring\n&n
 bsp\;\n&nbsp\; https://www.murrayvalleybushwalkers.org.au/index.php/the-pr
 ogram/event-listing/event/2120-beginner-snowshoe-cross-country-ski-falls-c
 reek
DTSTART:20160807T073000Z
DTEND:20160807T183000Z
LOCATION:Falls Creek (Falls Creek VIC 3699\, Australia)
SUMMARY:Beginner Snowshoe- Cross Country Ski @ Falls Creek
URL:https://www.murrayvalleybushwalkers.org.au/index.php/the-program/event-
 listing/event/2120-beginner-snowshoe-cross-country-ski-falls-creek
END:VEVENT
END:VCALENDAR
