BEGIN:VCALENDAR
VERSION:2.0
PRODID:-//https://www.murrayvalleybushwalkers.org.au///NONSGML kigkonsult.se iCalcreator 2.10.15//
METHOD:PUBLISH
BEGIN:VEVENT
UID:20190301T083226EST-91846As5M2@https://www.murrayvalleybushwalkers.org.a
 u/
DTSTAMP:20190301T133226Z
DESCRIPTION:Due To The Weather Forecast this Event will now be on Sunday 31
 st July\nThe club has been funded by Vic talent again to help subsidise tr
 avel and entry fee expenses to encourage members to give winter sports a t
 ry. The club has 2 sets of snowshoes for members use. This will be a day t
 rip to Windy Corner at Falls Creek from where we can hire equipment if req
 uired and take a leisurely stroll around the numerous XC trails at Falls C
 reek. Suitable for beginners. Cross country skiers are most welcome.\nMeet
  at Bunnings Wodonga carpark 7.30am\n&nbsp\;\nGrade 1\nWhat to Bring\n&nbs
 p\;\n&nbsp\; https://www.murrayvalleybushwalkers.org.au/index.php/the-prog
 ram/event-listing/event/2119-beginner-snowshoe-cross-country-ski-falls-cre
 ek
DTSTART:20160724T073000Z
DTEND:20160724T183000Z
LOCATION:Falls Creek (Falls Creek VIC 3699\, Australia)
SUMMARY:Beginner Snowshoe- Cross Country Ski @ Falls Creek
URL:https://www.murrayvalleybushwalkers.org.au/index.php/the-program/event-
 listing/event/2119-beginner-snowshoe-cross-country-ski-falls-creek
END:VEVENT
END:VCALENDAR
