BEGIN:VCALENDAR
VERSION:2.0
PRODID:-//https://www.murrayvalleybushwalkers.org.au///NONSGML kigkonsult.se iCalcreator 2.10.15//
METHOD:PUBLISH
BEGIN:VEVENT
UID:20190301T083529EST-55278E86dZ@https://www.murrayvalleybushwalkers.org.a
 u/
DTSTAMP:20190301T133529Z
DESCRIPTION:Have you been wanting to try snow shoe or cross country skiing 
 ? Well if you can bushwalk carrying a day pack then chances are you will f
 ind a snow shoe or ski on gentle terrain a fun and enjoyable experience.&n
 bsp\;\nThe club has a couple of sets of snowshoes which were given an exte
 nsive workout last season. We have also been funded again by VicTalent to 
 help subsidise travel and entry fee expenses.&nbsp\;Participants are still
  expected to share the costs of resort entry and pooled transport expenses
  on the day. If further equipment is required on the day we will hire at W
 indy Corner and share the costs.\nWe will meet at my place in Baranduda at
  7-30am and pool transport from there.&nbsp\; Should be back at Baranduda 
 by 6pm.\nCheck out the What to Bring on day walking in the Alps section fo
 r food and clothing requirements http://murrayvalleybushwalkers.org.au/ind
 ex.php/risk-management/what-to-bring\n https://www.murrayvalleybushwalkers
 .org.au/index.php/the-program/event-listing/event/2106-beginners-snowshoe-
 cross-country-ski
DTSTART:20160730T073000Z
DTEND:20160730T173000Z
LOCATION:Falls Creek - Windy Corner (Bogong High Plains Road Falls Creek \,
  3699 \, Falls Creek \, Victoria \, Australia)
SUMMARY:Beginners SnowShoe - Cross Country Ski
URL:https://www.murrayvalleybushwalkers.org.au/index.php/the-program/event-
 listing/event/2106-beginners-snowshoe-cross-country-ski
END:VEVENT
END:VCALENDAR
