BEGIN:VCALENDAR
VERSION:2.0
PRODID:-//https://www.murrayvalleybushwalkers.org.au///NONSGML kigkonsult.se iCalcreator 2.10.15//
METHOD:PUBLISH
BEGIN:VEVENT
UID:20190301T083646EST-3209Dtr1Z6@https://www.murrayvalleybushwalkers.org.a
 u/
DTSTAMP:20190301T133646Z
DESCRIPTION:The Kangaroo Hoppet is a celebration of cross country skiing - 
 most visitors to our shores cant get their head around the fact that we ha
 ve great snowfields. There are 3 events varying in distance from 7km\, 21k
 m and 42km. But its worth coming up even if you dont want to ski in an eve
 nt as its day full of colour and excitement and you can always try snowsho
 eing!\n&nbsp\;\nHave you been wanting to try snow shoe or cross country sk
 iing ? Well if you can bushwalk carrying a day pack then chances are you w
 ill find a snow shoe or ski on gentle terrain a fun and enjoyable experien
 ce.&nbsp\;\nThe club has a couple of sets of snowshoes which were given an
  extensive workout last season. We have also been funded again by VicTalen
 t to help subsidise travel and entry fee expenses.&nbsp\;Participants are 
 still expected to share the costs of resort entry and pooled transport exp
 enses on the day. If further equipment is required on the day we will hire
  at Windy Corner and share the costs.\nWe will meet at my place in Barandu
 da at 7-00am and pool transport from there.&nbsp\; Should be back at Baran
 duda by 6pm.\nCheck out the What to Bring on day walking in the Alps secti
 on for food and clothing requirements http://murrayvalleybushwalkers.org.a
 u/index.php/risk-management/what-to-bring\n https://www.murrayvalleybushwa
 lkers.org.au/index.php/the-program/event-listing/event/2105-kangaroo-hoppe
 t-cross-country-ski-events-grade-2-4
DTSTART:20160827T073000Z
DTEND:20160827T173000Z
LOCATION:Falls Creek - Windy Corner (Bogong High Plains Road Falls Creek \,
  3699 \, Falls Creek \, Victoria \, Australia)
SUMMARY:Kangaroo Hoppet - Cross Country Ski Events Grade 2-4
URL:https://www.murrayvalleybushwalkers.org.au/index.php/the-program/event-
 listing/event/2105-kangaroo-hoppet-cross-country-ski-events-grade-2-4
END:VEVENT
END:VCALENDAR
