BEGIN:VCALENDAR
VERSION:2.0
PRODID:-//https://www.murrayvalleybushwalkers.org.au///NONSGML kigkonsult.se iCalcreator 2.10.15//
METHOD:PUBLISH
BEGIN:VEVENT
UID:20190301T083609EST-3455PnLuF0@https://www.murrayvalleybushwalkers.org.a
 u/
DTSTAMP:20190301T133609Z
DESCRIPTION:Have you been wanting to try snow shoe or cross country skiing 
 ? Well if you can bushwalk carrying a day pack then chances are you will f
 ind a snow shoe or ski on gentle terrain a fun and enjoyable experience. A
 nd if you are female beginner skier you may want to avail of this opportun
 ity on the day\n\nBut if snowshoeing is more your cup of tea then...\nThe 
 club has a couple of sets of snowshoes which were given an extensive worko
 ut last season. We have also been funded again by VicTalent to help subsid
 ise travel and entry fee expenses.&nbsp\;Participants are still expected t
 o share the costs of resort entry and pooled transport expenses on the day
 . If further equipment is required on the day we will hire at Windy Corner
  and share the costs.\nWe will meet at my place in Baranduda at 7-30am and
  pool transport from there.&nbsp\; Should be back at Baranduda by 6pm.\nCh
 eck out the What to Bring on day walking in the Alps section for food and 
 clothing requirements http://murrayvalleybushwalkers.org.au/index.php/risk
 -management/what-to-bring\n https://www.murrayvalleybushwalkers.org.au/ind
 ex.php/the-program/event-listing/event/2104-beginners-snowshoe-cross-count
 ry-ski
DTSTART:20160813T073000Z
DTEND:20160813T173000Z
LOCATION:Falls Creek - Windy Corner (Bogong High Plains Road Falls Creek \,
  3699 \, Falls Creek \, Victoria \, Australia)
SUMMARY:Beginners SnowShoe - Cross Country Ski
URL:https://www.murrayvalleybushwalkers.org.au/index.php/the-program/event-
 listing/event/2104-beginners-snowshoe-cross-country-ski
END:VEVENT
END:VCALENDAR
