BEGIN:VCALENDAR
VERSION:2.0
PRODID:-//https://www.murrayvalleybushwalkers.org.au///NONSGML kigkonsult.se iCalcreator 2.10.15//
METHOD:PUBLISH
BEGIN:VEVENT
UID:20190301T083943EST-3484ATFpWc@https://www.murrayvalleybushwalkers.org.a
 u/
DTSTAMP:20190301T133943Z
DESCRIPTION:Exploring a sea side National Park. A few walks are shown on th
 e map from NP SA. https://www.murrayvalleybushwalkers.org.au/index.php/the
 -program/event-listing/event/2096-exploring-innes-national-park-sa
DTSTART:20161026T090000Z
DTEND:20161026T180000Z
LOCATION:Innes National Park\, SA (Pondalowie Bay Rd\, Inneston SA 5577\, A
 ustralia)
SUMMARY:Exploring Innes National Park SA
URL:https://www.murrayvalleybushwalkers.org.au/index.php/the-program/event-
 listing/event/2096-exploring-innes-national-park-sa
END:VEVENT
END:VCALENDAR
