BEGIN:VCALENDAR
VERSION:2.0
PRODID:-//https://www.murrayvalleybushwalkers.org.au///NONSGML kigkonsult.se iCalcreator 2.10.15//
METHOD:PUBLISH
BEGIN:VEVENT
UID:20190301T084236EST-0377TuV37o@https://www.murrayvalleybushwalkers.org.a
 u/
DTSTAMP:20190301T134236Z
DESCRIPTION:We have booked a 6 birth late Easter car camp at the Daffodil c
 abin at Currango homestead from the Easter sunday to the post easter Wedne
 sday&nbsp\;\nCost is $307 to be shared among 6 people - note there are two
  vacancies still in the cabin as at April 2 2017\n\nThere are free camping
  facilities not far away (approx 10km) at the&nbsp\;Old Snowy Campground&n
 bsp\;for people who want to join us but cant get a spot in the cabin\n\nFa
 ntastic walking options abound in this part of Kosciusko NP\nFor further i
 nformation contact Jan\n&nbsp\;\nEvent grades\nWhat to bring https://www.m
 urrayvalleybushwalkers.org.au/index.php/the-program/event-listing/event/20
 92-easter-car-camp-kosciusko-np-grade-3
DTSTART:20170416T100000Z
DTEND:20170419T170000Z
LOCATION: ()
SUMMARY:Easter Car Camp Kosciusko NP Grade 3
URL:https://www.murrayvalleybushwalkers.org.au/index.php/the-program/event-
 listing/event/2092-easter-car-camp-kosciusko-np-grade-3
END:VEVENT
END:VCALENDAR
