BEGIN:VCALENDAR
VERSION:2.0
PRODID:-//https://www.murrayvalleybushwalkers.org.au///NONSGML kigkonsult.se iCalcreator 2.10.15//
METHOD:PUBLISH
BEGIN:VEVENT
UID:20190301T084132EST-8373VK1cJ0@https://www.murrayvalleybushwalkers.org.a
 u/
DTSTAMP:20190301T134132Z
DESCRIPTION:Bookings for this event have closed as we have 12 participants 
 - if you would like to be on a waiting list in case of cancellations email
  Tony Marsh greencomputing@gmail.com\nJoin us for a fabulous 4 day walk on
  the Tasman Peninsula starting with a ferry trip from Port Arthur and stay
 ing 3 nights in cabin accommodation. We will return from Fortescue Bay by 
 coach to Port Arthur\nCost is $495 per person or $396 for seniors and conc
 ession card holders\n&nbsp\;\n\nWhat to bring\n&nbsp\;\nhttp://www.threeca
 pestrack.com.au/\n&nbsp\;\n&nbsp\;\nEvent gradings https://www.murrayvalle
 ybushwalkers.org.au/index.php/the-program/event-listing/event/2089-three-c
 apes-adventure-grade-3-backpack
DTSTART:20170205T060000Z
DTEND:20170208T200000Z
LOCATION:Port Arthur Tasmania (Port Arthur TAS 7182\, Australia)
SUMMARY:Three Capes Adventure Grade 3 Backpack
URL:https://www.murrayvalleybushwalkers.org.au/index.php/the-program/event-
 listing/event/2089-three-capes-adventure-grade-3-backpack
END:VEVENT
END:VCALENDAR
