BEGIN:VCALENDAR
VERSION:2.0
PRODID:-//https://www.murrayvalleybushwalkers.org.au///NONSGML kigkonsult.se iCalcreator 2.10.15//
METHOD:PUBLISH
BEGIN:VEVENT
UID:20190301T083922EST-30272OVS1a@https://www.murrayvalleybushwalkers.org.a
 u/
DTSTAMP:20190301T133922Z
DESCRIPTION:A Car Camp of two days. since to visit Kangaroo Island is expen
 sive! In two days we should be able to discover all that Kangaroo Island i
 s famous for. For further details see SA National Park Service website. Ap
 art from the Park entry fee\, remember the fee on the ferry getting there!
 \nFor exact times please contact Hans Kaspers. https://www.murrayvalleybus
 hwalkers.org.au/index.php/the-program/event-listing/event/2070-kangaroo-is
 land-car-camp
DTSTART:20161023T090000Z
DTEND:20161024T180000Z
LOCATION:Kangaroo Island SA (Shackle Rd\, Flinders Chase SA 5223\, Australi
 a)
SUMMARY:Kangaroo Island Car Camp.
URL:https://www.murrayvalleybushwalkers.org.au/index.php/the-program/event-
 listing/event/2070-kangaroo-island-car-camp
END:VEVENT
END:VCALENDAR
