BEGIN:VCALENDAR
VERSION:2.0
PRODID:-//https://www.murrayvalleybushwalkers.org.au///NONSGML kigkonsult.se iCalcreator 2.10.15//
METHOD:PUBLISH
BEGIN:VEVENT
UID:20190301T083901EST-6586rgvFnU@https://www.murrayvalleybushwalkers.org.a
 u/
DTSTAMP:20190301T133901Z
DESCRIPTION:A Grade 3 walk of about &nbsp\;10 km\, starting at Princetown t
 o the Twelve Apostles. This is the Final segmentof the Great Ocean Walk.\n
 &nbsp\;\nMeet at the Princetown Store at 9.00\n&nbsp\;\nFor what to bring 
 click here\n&nbsp\;\nFor walk gradings click here https://www.murrayvalley
 bushwalkers.org.au/index.php/the-program/event-listing/event/2062-princeto
 wn-to-twelve-apostles-grade-3-day-walk
DTSTART:20161020T090000Z
DTEND:20161020T160000Z
LOCATION:Twelve Apostles (LOT 1 Great Ocean Rd\, Princetown VIC 3269\, Aust
 ralia)
SUMMARY:Princetown to Twelve Apostles Grade 3 day walk
URL:https://www.murrayvalleybushwalkers.org.au/index.php/the-program/event-
 listing/event/2062-princetown-to-twelve-apostles-grade-3-day-walk
END:VEVENT
END:VCALENDAR
