BEGIN:VCALENDAR
VERSION:2.0
PRODID:-//https://www.murrayvalleybushwalkers.org.au///NONSGML kigkonsult.se iCalcreator 2.10.15//
METHOD:PUBLISH
BEGIN:VEVENT
UID:20190301T083809EST-2090PE3LoA@https://www.murrayvalleybushwalkers.org.a
 u/
DTSTAMP:20190301T133809Z
DESCRIPTION:A 6 to 8 week trip to Perth and back. On the way to Perth we'll
  try to hug the coastline as much as possible\, on the way back we may vis
 it National Parks a little more inland. Total distance will be about 12000
  km. The idea is to travel by car for two days and have a day walk. We'll 
 start with one day car travel followed by a 15 km walk from: 'Devil's Kitc
 hen' to 'Twelve Apostles'.\nVisits to Kangaroo Island\, Lincoln National P
 ark\, etc are in the planning Stages. Obviously this trip is designed for 
 the priviliged retired people (or long service leave?). But if you like to
  join us for a few days at the start\, or around Adelaide or Perth\, we wo
 uld welcome all participants. https://www.murrayvalleybushwalkers.org.au/i
 ndex.php/the-program/event-listing/event/2056-across-the-nullarbor-to-pert
 h-and-back
DTSTART:20161019T083000Z
DTEND:20161112T183000Z
LOCATION:Perth WA (Lovekin Dr\, Kings Park WA 6005\, Australia)
SUMMARY:Across the Nullarbor to Perth and back
URL:https://www.murrayvalleybushwalkers.org.au/index.php/the-program/event-
 listing/event/2056-across-the-nullarbor-to-perth-and-back
END:VEVENT
END:VCALENDAR
