BEGIN:VCALENDAR
VERSION:2.0
PRODID:-//https://www.murrayvalleybushwalkers.org.au///NONSGML kigkonsult.se iCalcreator 2.10.15//
METHOD:PUBLISH
BEGIN:VEVENT
UID:20190301T083703EST-9616w2AzJL@https://www.murrayvalleybushwalkers.org.a
 u/
DTSTAMP:20190301T133703Z
DESCRIPTION:\nCape to Cape 8 Day Walk South West Western Australia&nbsp\;\n
 \n\n\n\nConsider joining Iris and Barbara for this incredible adventure do
 ne in style with day walks and staying each night in a villa???( We only n
 eed to change the accomodation once in the middle of the walk)\nThis is a 
 supported event with Cape to Cape Explorer Tours\nFor&nbsp\;full details o
 f cost and itinerary and transport arrangements available click here\n&nbs
 p\;\nhttp://capetocapetours.com.au/explorer/?page_id=3034\n&nbsp\;\nThere 
 are 13 places to fill for this Date.\nWe will&nbsp\; fly to Perth on the 1
 7th of September\, this will give us time to look around\, get to the star
 t of the walk and shop for our food etc etc...\n&nbsp\;\nIris Joss 0206076
 2789\nl\n\nWhat to Bring LINK\n\nWalks Grade LINK\n\n&nbsp\;\n https://www
 .murrayvalleybushwalkers.org.au/index.php/the-program/event-listing/event/
 2053-cape-to-cape-grade-4-multi-day-walk
DTSTART:20160920T073000Z
DTEND:20160927T200000Z
LOCATION:Cape Naturaliste Lighhouse (LOT 5052 Cape Naturaliste Rd\, Natural
 iste WA 6281\, Australia)
SUMMARY:Cape to Cape Grade 4 Multi Day Walk
URL:https://www.murrayvalleybushwalkers.org.au/index.php/the-program/event-
 listing/event/2053-cape-to-cape-grade-4-multi-day-walk
END:VEVENT
END:VCALENDAR
