BEGIN:VCALENDAR
VERSION:2.0
PRODID:-//https://www.murrayvalleybushwalkers.org.au///NONSGML kigkonsult.se iCalcreator 2.10.15//
METHOD:PUBLISH
BEGIN:VEVENT
UID:20190301T084011EST-0488gP5Ocz@https://www.murrayvalleybushwalkers.org.a
 u/
DTSTAMP:20190301T134011Z
DESCRIPTION:Hi All\, \nMelbourne Cup Weekend\, &nbsp\;its a long way off bu
 t click the Join tab and come along for the &nbsp\;weekend.\n&nbsp\;\nSpen
 d the weekend exploring the caves and surrouning area.\nCup Weekend would 
 be an ideal time to visit these caves and local area\, because Cup Weekend
  only applies to Victorians\, therefore we have a good chance of not havin
 g to fight any crowd at this place.\nCurrent cost is $14 per person per ni
 ght for an unpowered site\, or $32 per night for two persons ($16 each) fo
 r a powered site.\nMembers can check out the NSW Parks website and have a 
 look for themselves. Iris &amp\; I have already made the decision to go th
 ere.\nDrive on the Saturday\, its approx 440km drive\,about 6 hours with s
 tops for food and basic necessities &nbsp\;turn off at Goulburn. set up ca
 mp and drive home Tuesday\n&nbsp\;\nTrevor\nGrade 2 Walk\nWhat to Bring \n
 BOM weather \n&nbsp\; https://www.murrayvalleybushwalkers.org.au/index.php
 /the-program/event-listing/event/2045-wombeyan-caves-car-camp-multiday
DTSTART:20161029T200000Z
DTEND:20161101T170000Z
LOCATION:Wombeyan Caves ( Wombeyan Karst Conservation Reserve\, New South W
 ales)
SUMMARY:Wombeyan Caves Car Camp Multiday
URL:https://www.murrayvalleybushwalkers.org.au/index.php/the-program/event-
 listing/event/2045-wombeyan-caves-car-camp-multiday
END:VEVENT
END:VCALENDAR
