BEGIN:VCALENDAR
VERSION:2.0
PRODID:-//https://www.murrayvalleybushwalkers.org.au///NONSGML kigkonsult.se iCalcreator 2.10.15//
METHOD:PUBLISH
BEGIN:VEVENT
UID:20190301T083125EST-1010Fd0pWo@https://www.murrayvalleybushwalkers.org.a
 u/
DTSTAMP:20190301T133125Z
DESCRIPTION:Hi All\nCome along and enjoy the tranquill Koetong state forest
 .\nGrade 3\nApprox 14 km&nbsp\;all on track\nWe drive along Cravensville r
 oad to Lake Williams track\, park the cars and walk back along the road we
  came on for about 1.5km. Then its up along Edgar track\, a short bit thro
 ugh the pines into Stevo track\, and eventually we come &nbsp\;to Lake Wil
 liams track and the magnificent Lake Williams.\n\nMeet at the Koetong pub 
 at 09 AM\nIris\nDogs can come but best be on a lead\nParticipants must hav
 e good humour and a smile\n&nbsp\;\nWhat to Bring LINK\nWalks Grade&nbsp\;
  LINK https://www.murrayvalleybushwalkers.org.au/index.php/the-program/eve
 nt-listing/event/1953-lake-williams-loop-grade-3-day-walk
DTSTART:20160717T083000Z
DTEND:20160717T150000Z
LOCATION:Koetong (Murray Valley Highway \, 3704 \, Koetong \, Victoria \, A
 ustralia)
SUMMARY:Lake Williams Loop Grade 3 Day Walk
URL:https://www.murrayvalleybushwalkers.org.au/index.php/the-program/event-
 listing/event/1953-lake-williams-loop-grade-3-day-walk
END:VEVENT
END:VCALENDAR
