BEGIN:VCALENDAR
VERSION:2.0
PRODID:-//https://www.murrayvalleybushwalkers.org.au///NONSGML kigkonsult.se iCalcreator 2.10.15//
METHOD:PUBLISH
BEGIN:VEVENT
UID:20190301T084323EST-1446FPRwOX@https://www.murrayvalleybushwalkers.org.a
 u/
DTSTAMP:20190301T134323Z
DESCRIPTION:This is a great opportunity to visit one of Victoria's oldest n
 ational parks in the Mallee which is the north west corner of the state We
  plan to drive to Yaapeet 560km from Albury on the thursday and start the 
 pack carry on the Friday from Wonga campground to Remote Campsite about 20
 km.This will a loop walk going out via Freeway Track and returning via Mer
 idian and Everards track on the Saturday - a total distance of 40km. On Su
 nday we will drive north through the park to Patchewollock and then camp o
 vernight in Pink Lakes. On Monday 31st we will return to Albury\n&nbsp\;\n
 What to bring\nEvent gradings\nBOM link for weather https://www.murrayvall
 eybushwalkers.org.au/index.php/the-program/event-listing/event/1948-wyperf
 eld-national-park-grade-3-overnight-backpack
DTSTART:20150826T210000Z
DTEND:20150831T100000Z
LOCATION:Wyperfeld National Park (Yaapeet VIC 3424\, Australia)
SUMMARY:Wyperfeld National Park Grade 3 Overnight Backpack
URL:https://www.murrayvalleybushwalkers.org.au/index.php/the-program/event-
 listing/event/1948-wyperfeld-national-park-grade-3-overnight-backpack
END:VEVENT
END:VCALENDAR
