BEGIN:VCALENDAR
VERSION:2.0
PRODID:-//https://www.murrayvalleybushwalkers.org.au///NONSGML kigkonsult.se iCalcreator 2.10.15//
METHOD:PUBLISH
BEGIN:VEVENT
UID:20190301T084254EST-12237nal7C@https://www.murrayvalleybushwalkers.org.a
 u/
DTSTAMP:20190301T134254Z
DESCRIPTION:Hi All\nThis is a grade 3 loop walk\, all on Track along Jurgie
 s Track in the Mt Granya State Park of about 18 km. it includes 1 long uph
 ill stretch\, but that is good thing in the cold.\n&nbsp\;\nWe will meet 0
 8.30 at the Cottontree Creek camping area Mt Granya State Park\n&nbsp\;\nI
 ris\n&nbsp\;\nWhat to Bring LINK\n\nWalks Grade&nbsp\; LINK https://www.mu
 rrayvalleybushwalkers.org.au/index.php/the-program/event-listing/event/168
 6-granya-forest-loop-grade-3-day-walk
DTSTART:20150821T223000Z
DTEND:20150822T050000Z
LOCATION:Mt Granya (Granya \, Vic \, Australia)
SUMMARY:Granya Forest Loop Grade 3 Day Walk
URL:https://www.murrayvalleybushwalkers.org.au/index.php/the-program/event-
 listing/event/1686-granya-forest-loop-grade-3-day-walk
END:VEVENT
END:VCALENDAR
