BEGIN:VCALENDAR
VERSION:2.0
PRODID:-//https://www.murrayvalleybushwalkers.org.au///NONSGML kigkonsult.se iCalcreator 2.10.15//
METHOD:PUBLISH
BEGIN:VEVENT
UID:20190301T084558EST-6224V7HBco@https://www.murrayvalleybushwalkers.org.a
 u/
DTSTAMP:20190301T134558Z
DESCRIPTION:\nWe depart Melbourne on the 19th of August and fly to Munich.
 \nThen by train to Fuessen. The 3rd of August is the start of the 125 km L
 echweg\, ( 9 days)https://fourfeetwalking.me/2016/01/28/hiking-the-lechweg
 -castles-cows-and-luftlmalereien/\nA day of rest and then by train to the 
 start of the salt alpensteig 1 and 2( 12 hiking days)\nhttp://www.eurohike
 .at/en/tour/hiking-salt-alpensteig-path-i-individual_t_16102\nhttp://www.e
 urohike.at/en/tour/individual-mountain-hiking-salt-alpensteig-path-2_t_161
 14At the end there is time to visit the biggest Eiscave in the wold at Hal
 lstatt and a Saltmine.Sight seeing at Salzburg. On the 20th of September b
 y Train to Ljubljana for the next adventure walk.. At the end we will be i
 n Trieste Italy\, and sadly the fun is ending\nPlease note: The walks will
  be booked by end of February.Any questions give me a ring 02 60762789\nht
 tp://www.onfootholidays.co.uk/Default.aspx/viewTour.17\n\n\n\n\n\n\nWalks 
 Grade LINK\n\n\n\n\n https://www.murrayvalleybushwalkers.org.au/index.php/
 the-program/calendar-events-2/event/2148-extended-day-walks-bavaria-austri
 a-grade-3-4
DTSTART:20170818T213000Z
DTEND:20170930T100000Z
LOCATION:Bavaria/Austria (Bavaria\, Germany)
SUMMARY:Extended Day Walks Bavaria/Austria  Grade 3-4
URL:https://www.murrayvalleybushwalkers.org.au/index.php/the-program/calend
 ar-events-2/event/2148-extended-day-walks-bavaria-austria-grade-3-4
END:VEVENT
END:VCALENDAR
